View In:
ArcGIS JavaScript
ArcGIS Online Map Viewer
ArcGIS Earth
ArcMap
ArcGIS Pro
View Footprint In:
ArcGIS Online Map Viewer
Service Description: Orthoimagery from Spring 2024. The service provides a Natural Color view at approximately 12 inch resolution. The source orthoimagery is 4-band at resolutions of 12 or 6 inches. For more information on the project area see https://gis.ny.gov/2024-orthoimagery. Please contact NYS ITS Geospatial Services at nysgis@its.ny.gov if you have any questions.
Map Name: Layers
Legend
All Layers and Tables
Layers:
Description:
Copyright Text: NYS ITS Geospatial Services
Spatial Reference:
102100
(3857)
Single Fused Map Cache: true
Tile Info:
- Height: 256
- Width: 256
- DPI: 96
-
Levels of Detail: 20
-
Level ID: 0
[ Start Tile, End Tile ]
- Resolution: 156543.03392800014
- Scale: 5.91657527591555E8
-
Level ID: 1
[ Start Tile, End Tile ]
- Resolution: 78271.51696399994
- Scale: 2.95828763795777E8
-
Level ID: 2
[ Start Tile, End Tile ]
- Resolution: 39135.75848200009
- Scale: 1.47914381897889E8
-
Level ID: 3
[ Start Tile, End Tile ]
- Resolution: 19567.87924099992
- Scale: 7.3957190948944E7
-
Level ID: 4
[ Start Tile, End Tile ]
- Resolution: 9783.93962049996
- Scale: 3.6978595474472E7
-
Level ID: 5
[ Start Tile, End Tile ]
- Resolution: 4891.96981024998
- Scale: 1.8489297737236E7
- Format: MIXED
- Compression Quality: 75.0
- Origin: X: -2.0037508342787E7
Y: 2.0037508342787E7
- Spatial Reference: 102100
(3857)
Initial Extent:
XMin: -9043919.195145342
YMin: 5121403.904337274
XMax: -7991782.330992255
YMax: 5662275.909313707
Spatial Reference: 102100
(3857)
Full Extent:
XMin: -8880981.79670716
YMin: 4936441.302805401
XMax: -8154719.729430435
YMax: 5627712.356622835
Spatial Reference: 102100
(3857)
Units: esriMeters
Supported Image Format Types: PNG32,PNG24,PNG,JPG,DIB,TIFF,EMF,PS,PDF,GIF,SVG,SVGZ,BMP
Document Info:
Title: NYS Orthoimagery - 2024 Color
Author: NYS ITS Geospatial Services
Comments: <DIV STYLE="text-align:Left;"><DIV><DIV><P><SPAN>Orthoimagery from Spring 2024. The service provides a Natural Color view at approximately 12 inch resolution. The source orthoimagery is 4-band at resolutions of 12 or 6 inches. For more information on the project area see </SPAN><A href="https://gis.ny.gov/2024-orthoimagery"><SPAN>https://gis.ny.gov/2024-orthoimagery</SPAN></A><SPAN>. Please contact NYS ITS Geospatial Services at </SPAN><A href="mailto:nysgis@its.ny.gov"><SPAN>nysgis@its.ny.gov</SPAN></A><SPAN>if you have any questions.</SPAN></P></DIV></DIV></DIV>
Subject: Orthoimagery produced by NY State from Spring 2024 aerial photography.
Category:
Keywords: NYSDOP,Orthoimagery
AntialiasingMode: None
TextAntialiasingMode: Force
Supports Dynamic Layers: false
MaxRecordCount: 1000
MaxImageHeight: 4096
MaxImageWidth: 4096
Supported Query Formats: JSON, geoJSON
Supports Query Data Elements:
Min Scale: 5.91657527591555E8
Max Scale: 1128.497176
Supports Datum Transformation: true
Child Resources:
Info
Supported Operations:
Export Map
Return Updates