View In:
ArcGIS JavaScript
ArcGIS Online Map Viewer
ArcGIS Earth
ArcMap
ArcGIS Pro
View Footprint In:
ArcGIS Online Map Viewer
Service Description: Orthoimagery from Spring 2000. 12 inch natural color and 24 inch panchromatic orthoimagery.
Map Name: Layers
Legend
All Layers and Tables
Layers:
Description:
Copyright Text: NYS ITS Geospatial Services
Spatial Reference:
102100
(3857)
Single Fused Map Cache: true
Tile Info:
- Height: 256
- Width: 256
- DPI: 96
-
Levels of Detail: 20
-
Level ID: 0
[ Start Tile, End Tile ]
- Resolution: 156543.03392800014
- Scale: 5.91657527591555E8
-
Level ID: 1
[ Start Tile, End Tile ]
- Resolution: 78271.51696399994
- Scale: 2.95828763795777E8
-
Level ID: 2
[ Start Tile, End Tile ]
- Resolution: 39135.75848200009
- Scale: 1.47914381897889E8
-
Level ID: 3
[ Start Tile, End Tile ]
- Resolution: 19567.87924099992
- Scale: 7.3957190948944E7
-
Level ID: 4
[ Start Tile, End Tile ]
- Resolution: 9783.93962049996
- Scale: 3.6978595474472E7
-
Level ID: 5
[ Start Tile, End Tile ]
- Resolution: 4891.96981024998
- Scale: 1.8489297737236E7
- Format: MIXED
- Compression Quality: 75.0
- Origin: X: -2.0037508342787E7
Y: 2.0037508342787E7
- Spatial Reference: 102100
(3857)
Initial Extent:
XMin: -8462451.880018748
YMin: 4931540.021842349
XMax: -7905795.504764303
YMax: 5324963.041774541
Spatial Reference: 102100
(3857)
Full Extent:
XMin: -8214149.11940676
YMin: 4949422.886384721
XMax: -8154098.265376291
YMax: 5307080.177232168
Spatial Reference: 102100
(3857)
Units: esriMeters
Supported Image Format Types: PNG32,PNG24,PNG,JPG,DIB,TIFF,EMF,PS,PDF,GIF,SVG,SVGZ,BMP
Document Info:
Title: 2000
Author: NYS ITS Geospatial Services
Comments: 1 foot natural color and 2 foot panchromatic imagery. For metadata see: https://gis.ny.gov/gateway/mg/metadata.cfm Contact - NysGis@its.ny.gov 518 242-5029
Subject: NYSDOP orthoimagery flown in Spring of 2000
Category:
Keywords: Orthoimagery,NYSDOP,Panchromatic,2000
AntialiasingMode: None
TextAntialiasingMode: Force
Supports Dynamic Layers: false
MaxRecordCount: 1000
MaxImageHeight: 4096
MaxImageWidth: 4096
Supported Query Formats: JSON, geoJSON
Supports Query Data Elements:
Min Scale: 5.91657527591555E8
Max Scale: 1128.497176
Supports Datum Transformation: true
Child Resources:
Info
Supported Operations:
Export Map
Return Updates